BEGIN:VCALENDAR
VERSION:2.0
PRODID:-//Aktives Museum Südwestfalen - ECPv6.15.17.1//NONSGML v1.0//EN
CALSCALE:GREGORIAN
METHOD:PUBLISH
X-WR-CALNAME:Aktives Museum Südwestfalen
X-ORIGINAL-URL:https://www.aktives-museum-suedwestfalen.de
X-WR-CALDESC:Veranstaltungen für Aktives Museum Südwestfalen
REFRESH-INTERVAL;VALUE=DURATION:PT1H
X-Robots-Tag:noindex
X-PUBLISHED-TTL:PT1H
BEGIN:VTIMEZONE
TZID:UTC
BEGIN:STANDARD
TZOFFSETFROM:+0000
TZOFFSETTO:+0000
TZNAME:UTC
DTSTART:20240101T000000
END:STANDARD
END:VTIMEZONE
BEGIN:VEVENT
DTSTART;TZID=UTC:20250323T150000
DTEND;TZID=UTC:20250323T170000
DTSTAMP:20260423T095222
CREATED:20250303T185022Z
LAST-MODIFIED:20250303T185022Z
UID:2408-1742742000-1742749200@www.aktives-museum-suedwestfalen.de
SUMMARY:Stadtrundgang II: Kernthema Deportation
DESCRIPTION:„Nie wieder ist Jetzt !“ Mit Blick auf aktuelle politische Strömungen und im Gedenken an die vielen Deportationen durch den Nationalsozialismus\, auch hier in Siegen\, bietet das Siegener Stadtmarketing im März wieder drei kostenlose Führungen zum Thema „Jüdisches Leben im Siegerland“ an. Der Rundgang erfolgt in Zusammenarbeit mit dem Aktiven Museum und unter der fachkundigen Leitung von Frau Traute Fries. \nAnmeldungen nimmt das Stadtmarketing Siegen ab sofort unter 0271-303 82822 oder unter kn@visitsiegen.de entgegen. \n 
URL:https://www.aktives-museum-suedwestfalen.de/veranstaltungen/stadtrundgang-ii-kernthema-deportation/
LOCATION:Bahnhofsvorplatz Siegen\, Am Bahnhof 16-20\, Siegen\, NRW\, 57072
CATEGORIES:+Meldung,Stadtrundgang
ORGANIZER;CN="Visit Siegen":MAILTO:kn@visitsiegen.de
END:VEVENT
END:VCALENDAR