BEGIN:VCALENDAR
VERSION:2.0
PRODID:-//Aktives Museum Südwestfalen - ECPv6.15.17.1//NONSGML v1.0//EN
CALSCALE:GREGORIAN
METHOD:PUBLISH
X-WR-CALNAME:Aktives Museum Südwestfalen
X-ORIGINAL-URL:https://www.aktives-museum-suedwestfalen.de
X-WR-CALDESC:Veranstaltungen für Aktives Museum Südwestfalen
REFRESH-INTERVAL;VALUE=DURATION:PT1H
X-Robots-Tag:noindex
X-PUBLISHED-TTL:PT1H
BEGIN:VTIMEZONE
TZID:UTC
BEGIN:STANDARD
TZOFFSETFROM:+0000
TZOFFSETTO:+0000
TZNAME:UTC
DTSTART:20250101T000000
END:STANDARD
END:VTIMEZONE
BEGIN:VEVENT
DTSTART;TZID=UTC:20260315T150000
DTEND;TZID=UTC:20260315T170000
DTSTAMP:20260422T102554
CREATED:20260207T130805Z
LAST-MODIFIED:20260207T144509Z
UID:2832-1773586800-1773594000@www.aktives-museum-suedwestfalen.de
SUMMARY:Jü­di­sches Le­ben im Sie­ger­land – Rund­gang ge­gen das Ver­ges­sen
DESCRIPTION:Nie wieder ist jetzt!\nDie Erinnerung an die vielen Opfer des Nationalsozialismus soll nicht verblassen – auch nicht in Siegen. Wie in den vergangenen Jahren und mit Blick auf aktuelle gesellschaftspolitische Entwicklungen und Geschehnisse bietet das Stadtmarketing Siegen in Zusammenarbeit mit dem Aktiven Museum Südwestfalen auch 2026 wieder drei Themenführungen mit unterschiedlichem Schwerpunkt an. \nDie Rundgänge sollen an die vielen jüdischen Schicksale im Siegerland erinnern und nahebringen\, wohin extreme politische Entwicklungen schon einmal geführt haben. „Nie wieder ist jetzt“ – und so richtet sich der Blick auch in die Zukunft\, denn heute ist es wichtiger denn je\, aus der Vergangenheit zu lernen und auf Werte wie Toleranz und demokratisches Miteinander aufmerksam zu machen. \nZentrale Orte in Siegen sind die Siegener Oberstadt\, die Unterstadt\, der Bahnhof und die Siegerlandhalle. Geleitet werden die Führungen von Traute Fries\, die sich seit knapp 50 Jahren dafür engagiert\, die Geschichte jüdischen Lebens im Siegerland lebendig zu halten. Sie hat das Aktive Museum Südwestfalen mit aufgebaut und bietet seit vielen Jahren Führungen für Schüler und Erwachsene an. \nJüdisches Leben im Siegerland \nSonntag\, 15.03.26: 15.00 Uhr ab dem Aktiven Museum Südwestfalen (ehemalige Synagoge); Achtung: AMS ist nur Treffpunkt-es geht von dort aus in die Siegener Oberstadt) \nSonntag\, 22.03.26: 15.00 Uhr ab Bahnhofsvorplatz \nSonntag\, 29.03.26: 15.00 Uhr ab Parkplatz Siegerlandhalle \nAnmeldungen nimmt das Stadtmarketing Siegen ab sofort unter 0271-303 82822 oder unter kn@visitsiegen.de entgegen. Die Teilnahme ist kostenlos.
URL:https://www.aktives-museum-suedwestfalen.de/veranstaltungen/juedisches-leben-im-siegerland-rundgang-gegen-das-vergessen/
LOCATION:Aktives Museum Südwestfalen\, Am Obergraben 10\, 57072 Siegen
CATEGORIES:+Meldung,Führung,Stadtrundgang
ATTACH;FMTTYPE=image/jpeg:https://www.aktives-museum-suedwestfalen.de/wp-content/uploads/2026/02/Juedisches-Leben-im-Siegerland-Themenfuehrungen-mit-Traute-Fries-Maerz-2025-2-1.jpg
END:VEVENT
END:VCALENDAR