BEGIN:VCALENDAR
VERSION:2.0
PRODID:-//Aktives Museum Südwestfalen - ECPv6.15.17.1//NONSGML v1.0//EN
CALSCALE:GREGORIAN
METHOD:PUBLISH
X-WR-CALNAME:Aktives Museum Südwestfalen
X-ORIGINAL-URL:https://www.aktives-museum-suedwestfalen.de
X-WR-CALDESC:Veranstaltungen für Aktives Museum Südwestfalen
REFRESH-INTERVAL;VALUE=DURATION:PT1H
X-Robots-Tag:noindex
X-PUBLISHED-TTL:PT1H
BEGIN:VTIMEZONE
TZID:UTC
BEGIN:STANDARD
TZOFFSETFROM:+0000
TZOFFSETTO:+0000
TZNAME:UTC
DTSTART:20250101T000000
END:STANDARD
END:VTIMEZONE
BEGIN:VEVENT
DTSTART;TZID=UTC:20260322T150000
DTEND;TZID=UTC:20260322T170000
DTSTAMP:20260424T113528
CREATED:20260207T143457Z
LAST-MODIFIED:20260207T145203Z
UID:2838-1774191600-1774198800@www.aktives-museum-suedwestfalen.de
SUMMARY:Jü­di­sches Le­ben im Sie­ger­land – Rund­gang ge­gen das Ver­ges­sen (Unterstadt I)
DESCRIPTION:„Nie wieder ist Jetzt !“ Mit Blick auf aktuelle politische Strömungen und im Gedenken an die vielen Deportationen durch den Nationalsozialismus\, auch hier in Siegen\, bietet das Siegener Stadtmarketing wieder drei kostenlose Führungen zum Thema „Jüdisches Leben im Siegerland“ an. Der Rundgang erfolgt in Zusammenarbeit mit dem Aktiven Museum Südwestfalen und unter der fachkundigen Leitung von Frau Traute Fries. \nSonntag\, 22. März 2026 | 15:00-17:00 Uhr – Kernthemen sind die Deportationen \nTreffpunkt: Bahnhofsvorplatz Siegen \n  \nAnmeldungen nimmt das Stadtmarketing Siegen ab sofort unter 0271-303 82822 oder unter kn@visitsiegen.de entgegen. \nDie Teilnahme ist kostenlos.
URL:https://www.aktives-museum-suedwestfalen.de/veranstaltungen/2-stadtfuehrung-zum-juedischen-leben-im-siegerland-mit-traute-fries/
LOCATION:Bahnhofsvorplatz Siegen\, Am Bahnhof 16-20\, Siegen\, NRW\, 57072
CATEGORIES:+Meldung,Führung,Stadtrundgang
END:VEVENT
BEGIN:VEVENT
DTSTART;TZID=UTC:20260322T170000
DTEND;TZID=UTC:20260322T183000
DTSTAMP:20260424T113528
CREATED:20260212T235140Z
LAST-MODIFIED:20260313T104237Z
UID:2868-1774198800-1774204200@www.aktives-museum-suedwestfalen.de
SUMMARY:Veröffentlichung der Anthologie „Bin Mensch nicht auch ich?“ Erinnern – Erzählen – Erleben
DESCRIPTION:Buchpräsentation:  \n„Bin Mensch nicht auch ich?!“ Erinnern-Erzählen-Erleben \nAktives Museum Südwestfalen \nSonntag\, 22. März 2026\, 17:00 Uhr \nDie Anthologie Bin Mensch nicht auch ich? enthält die Lebensgeschichten von Betty Hochmann\, Inge Frank\, Otto Päulgen\, Zina und Johanna und Simon Grünewald\, die vor und während des Nationalsozialismus in der Stadt und dem Kreis Siegen lebten. Ihre Erfahrungen wurden über lange Jahre hinweg von Mitgliedern des Aktiven Museums Südwestfalen aufgearbeitet und stehen zugleich exemplarisch für die Schicksale vieler Menschen zu dieser Zeit. Die Anthologie präsentiert grafische Erzählungen von den Künstlerinnen Marion Goedelt\, Inbal Leitner\, Stephanie Lunkewitz\, Lisa Rock und Bianca Schaalburg. \nEingebettet ist die Anthologie in das vom Ministerium für Kultur und Wissenschaft des Landes NRW geförderte Projekt „Learning about the Shoah Through Narrative Art and Visual Storytelling“– Transnationale Erinnerung in der grafischen Literatur“\, das im Wintersemester 2024/25 von Prof. Dr. Daniel Stein\, Dr. Jens Aspelmeier und Dr. Jana Mikota in Kooperation des Aktiven Museums Südwestfalen und der Universität Siegen/Philosophischen Fakultät als Impuls zu neuen Vermittlungszugängen in Schulen und außerschulischen Vermittlungsbereichen initiiert wurde. Zur Buchvorstellung\, am 22. März\, werden die Illustratorinnen und Künstlerinnen Stephanie Lunkewitz\, Lisa Rock und Marion Goedelt ausgwählte Passagen aus dem Buch verlesen.
URL:https://www.aktives-museum-suedwestfalen.de/veranstaltungen/veroeffentlichung-der-anthologie-bin-mensch-nicht-auch-ich-erinnern-erzaehlen-erleben-finissage-sonderausstellung-den-holocaust-in-bildern-erzaehlen/
LOCATION:Aktives Museum Südwestfalen\, Am Obergraben 10\, 57072 Siegen
CATEGORIES:Anthologie,Graphic Novel,Sonderausstellung
ATTACH;FMTTYPE=image/jpeg:https://www.aktives-museum-suedwestfalen.de/wp-content/uploads/2026/02/Anthologie-Bin-Mensch-nicht-auch-ich-2-e1771894806221.jpg
END:VEVENT
END:VCALENDAR