BEGIN:VCALENDAR
VERSION:2.0
PRODID:-//Aktives Museum Südwestfalen - ECPv6.15.17.1//NONSGML v1.0//EN
CALSCALE:GREGORIAN
METHOD:PUBLISH
X-WR-CALNAME:Aktives Museum Südwestfalen
X-ORIGINAL-URL:https://www.aktives-museum-suedwestfalen.de
X-WR-CALDESC:Veranstaltungen für Aktives Museum Südwestfalen
REFRESH-INTERVAL;VALUE=DURATION:PT1H
X-Robots-Tag:noindex
X-PUBLISHED-TTL:PT1H
BEGIN:VTIMEZONE
TZID:UTC
BEGIN:STANDARD
TZOFFSETFROM:+0000
TZOFFSETTO:+0000
TZNAME:UTC
DTSTART:20250101T000000
END:STANDARD
END:VTIMEZONE
BEGIN:VEVENT
DTSTART;TZID=UTC:20260510T150000
DTEND;TZID=UTC:20260510T170000
DTSTAMP:20260424T113528
CREATED:20260204T183231Z
LAST-MODIFIED:20260304T120059Z
UID:2824-1778425200-1778432400@www.aktives-museum-suedwestfalen.de
SUMMARY:Spurensuche auf dem Hermelsbacher Friedhof - 81 Jahre nach der Befreiung vom Faschismus und dem Zusammenbruch des Dritten Reiches. In Zusammenarbeit mit dem Aktiven Museum Südwestfalen e. V.
DESCRIPTION:In diesem Jahr jährt sich das Ende des 2. Weltkrieges zum 81. Mal. Es gibt immer weniger Menschen\, die aus eigenem Erleben erzählen können von den Entwicklungen\, die in unserer Region zum Faschismus führten und zu einem Krieg\, der von deutschem Boden ausging und am Ende Europa und Deutschland verwüstete. Doch der Hermelsbacher Friedhof ist ein Geschichtsbuch in Steinen: Hier finden sich Spuren vieler wichtige Personen und Ereignisse der Stadtgeschichte vor 1945\, auch viele schmerzhafte Seiten. Sie handeln von der Ausbeutung der Zwangsarbeiter\, der Verfolgung und Deportation der jüdischen Mitbürger*innen\, der Zerstörung der Stadt und der Leben vieler Menschen durch den großen Bombenangriff vom 16.12.194. Andere Seiten dieses steinernen Buches erzählen vom mahnenden Gedenken und dem Wandel der Erinnerungskultur nach 1945. Die Führung folgt den Spuren der jüdischen Gemeinde Siegen\, außerdem wird auf die Geschichte der Zwangsarbeiter im Siegerland sowie der Bombenopfer aus der Siegener Bevölkerung anhand einiger Schicksale eingegangen. \nRaimer Leng\, Pfarrer i.R.\, Ev. Vorsitzender der Ges. für Christlich-Jüdische Zusammenarbeit Siegen\nPeer Ball\, Vorstand Aktives Museum\, Leiter der AG Pädagogik\nSpontane Anmeldung vor Ort nicht möglich. Da der Eintritt frei und die Zahl der Teilnehmenden begrenzt ist\, bitten wir um eine vorherige Anmeldung über die vhs-Webseite (solange Plätze verfügbar sind). \nMänner bringen bitte eine Kopfbedeckung mit.
URL:https://www.aktives-museum-suedwestfalen.de/veranstaltungen/spurensuche-auf-dem-hermelsbacher-friedhof-80-jahre-nach-der-befreiung-vom-faschismus-und-dem-zusammenbruch-des-dritten-reiches-in-zusammenarbeit-mit-dem-aktiven-museum-suedwestfalen-e-v-2/
LOCATION:Hermelsbacher Friedhof\, Treffpunkt: Unterer Eingang\, Friedhof Hermelsbach\, Nordrhein-Westfalen
CATEGORIES:Führung,Vortrag
ATTACH;FMTTYPE=image/png:https://www.aktives-museum-suedwestfalen.de/wp-content/uploads/2026/02/D16014-3-Spurensuche-Poster-korrigiert-e1772625647655.png
ORGANIZER;CN="VHS%3B Aktives Museum S%C3%BCdwestfalen e. V.":MAILTO:siegen-ams@t-online.de
END:VEVENT
END:VCALENDAR