BEGIN:VCALENDAR
VERSION:2.0
PRODID:-//Aktives Museum Südwestfalen - ECPv6.15.17.1//NONSGML v1.0//EN
CALSCALE:GREGORIAN
METHOD:PUBLISH
X-ORIGINAL-URL:https://www.aktives-museum-suedwestfalen.de
X-WR-CALDESC:Veranstaltungen für Aktives Museum Südwestfalen
REFRESH-INTERVAL;VALUE=DURATION:PT1H
X-Robots-Tag:noindex
X-PUBLISHED-TTL:PT1H
BEGIN:VTIMEZONE
TZID:UTC
BEGIN:STANDARD
TZOFFSETFROM:+0000
TZOFFSETTO:+0000
TZNAME:UTC
DTSTART:20240101T000000
END:STANDARD
END:VTIMEZONE
BEGIN:VEVENT
DTSTART;TZID=UTC:20251109T150000
DTEND;TZID=UTC:20251109T170000
DTSTAMP:20260421T112950
CREATED:20250723T143214Z
LAST-MODIFIED:20251002T151319Z
UID:2681-1762700400-1762707600@www.aktives-museum-suedwestfalen.de
SUMMARY:Rundgang zu Orten jüdischen Lebens in Siegens Oberstadt. In Zusammenarbeit mit der VHS Siegen
DESCRIPTION:In diesem Jahr jährt sich das Ende des 2. Weltkrieges zum 80. Mal. Es gibt immer weniger Menschen\, die aus eigenem Erleben von den Entwicklungen zur Zeit des Faschismus und des Krieges erzählen können. Die Führung folgt den Spuren der jüdischen Gemeinde Siegen. Außerdem wird auf die Geschichte der Zwangsarbeiter im Siegerland sowie der Bombenopfer aus der Siegener Bevölkerung anhand einiger Schicksale eingegangen.\nDurchführende:\nPeer Ball\, Vorstand Aktives Museum Südwestfalen\, Leiter der AG Pädagogik\, Dr. Jana Mikota (Uni Siegen\, Vorstand Aktives Museum Südwestfalen)\nAnmeldung erforderlich! (Teilnehmer*innen begrenzt)\nAnmeldung per Web\, per E-Mail an info@vhs-stadt-siegen.de oder persönlich.\nDas Kursentgelt von 5\,00 € zahlen Sie direkt bei der Führung. Männer bringen bitte eine Kopfbedeckung mit. \nTreffpunkt: Aktives Museum Südwestfalen\, Obergraben 10\, 57072 Siegen \n  \n 
URL:https://www.aktives-museum-suedwestfalen.de/veranstaltungen/rundgang-juedisches-leben-in-siegen-anlaesslich-80-jahren-kriegsenden-erinnerung-gedenken-synagogen-brand/
LOCATION:Siegen\, Obergraben 10\, Siegen\, 57072
CATEGORIES:Führung
ATTACH;FMTTYPE=image/jpeg:https://www.aktives-museum-suedwestfalen.de/wp-content/uploads/2025/07/Rundgang-Orte-juedisches-Leben-Siegen-Oberstadt_9-11-25.jpg
END:VEVENT
BEGIN:VEVENT
DTSTART;TZID=UTC:20251110T160000
DTEND;TZID=UTC:20251110T164500
DTSTAMP:20260421T112950
CREATED:20250419T180504Z
LAST-MODIFIED:20250928T154233Z
UID:2490-1762790400-1762793100@www.aktives-museum-suedwestfalen.de
SUMMARY:Traditionelle Gedenkstunde zur Erinnerung an das Novemberpogrom von 1938 und die Zerstörung der Siegener Synagoge
DESCRIPTION:Am Montag\, 10. November\, findet um 16:00 Uhr am Platz der Synagoge im Siegener Obergraben die Gedenkstunde zur Reichspogromnacht im Jahr 1938 statt. Vor 87 Jahren steckten Männer der Siegener SS und SA in der Mittagsstunde des 10. November die Siegener Synagoge unter den Blicken zahlreicher Schaulustiger in Brand. Das jüdische Gotteshaus wurde vollständig zerstört. Alle jüdischen Männer\, deren man habhaft werden konnte\, wurden verhaftet und ins KZ Sachsenhausen verschleppt. Der 10. November 1938 markiert damit das Ende des sichtbaren jüdischen Lebens in Siegen. Die Gedenkstunde erinnert an die Schrecken der Vergangenheit und mahnt\, dass jüdisches Leben in Deutschland so stark bedroht ist wie seit dem Zweiten Weltkrieg nicht mehr. \nModeriert wird die Gedenkstunde vom Ev. Vorsitzenden der Gesellschaft für Christlich-Jüdische Zusammenarbeit Siegerland e. V. (CJZ) Pfr. i. R. Raimar Leng. Im Anschluss spricht der Landrat des Kreises Siegen-Wittgenstein ein Grußwort. Den zentralen Redebeitrag hält in diesem Jahr Sylvia Löhrmann\, die Beauftragte des Landes Nordrhein-Westfalen für die Bekämpfung des Antisemitismus\, für jüdisches Leben und Erinnerungskultur.  Staatsministerin a.D. Sylvia Löhrmann war von 1995 bis 2017 Mitglied des Landtags Nordrhein-Westfalen. Von 2010 bis 2017 war Sylvia Löhrmann stellvertretende Ministerpräsidentin und Ministerin für Schule und Weiterbildung. Das jüdische Totengebet (Kaddisch) spricht Alon Sander\, jüdischer Vorsitzender der CJZ Siegerland. Beteiligt sind weiterhin Jugendliche der diesjährigen vom Kreisjugendring Siegen-Wittgenstein organisierten deutsch-israelischen Jugendbegegnung\, die im Oktober in Deutschland stattfinden wird. Das Mitbringen von Flaggen und Transparenten ist nicht erlaubt. \nDer Obergraben wird von 15:00 Uhr bis ca. 18:00 Uhr von der Einmündung Kohlbettstraße bis zum Parkhaus ehemals Karstadt (Unteres Schloss) gesperrt. Nach der Gedenkstunde besteht die Möglichkeit\, die Sonderausstellung „Den Holocaust in Bildern erzählen. Eine Ausstellung zu aktuellen Graphic Novels und Bilderbüchern“ im Aktiven Museum Südwestfalen zu besuchen. Der Eintritt ist kostenfrei. Die Gesellschaft für Christlich-Jüdische Zusammenarbeit Siegerland e. V. und das Aktive Museum Südwestfalen e. V. laden herzlich zum Besuch der Gedenkstunde ein.
URL:https://www.aktives-museum-suedwestfalen.de/veranstaltungen/traditionelle-gedenkstunde-zur-erinnerung-an-das-novemberpogrom-von-1938-und-die-zerstoerung-der-siegener-synagoge/
LOCATION:Aktives Museum Südwestfalen\, Am Obergraben 10\, 57072 Siegen
CATEGORIES:Gedenkstunde
ATTACH;FMTTYPE=image/jpeg:https://www.aktives-museum-suedwestfalen.de/wp-content/uploads/2025/04/Gedenkstunde-Reichspogromnacht-1938-2025-81.-Gedenken-S.-1.jpg
ORGANIZER;CN="CJZ":MAILTO:siegen-ams@t-online.de
END:VEVENT
END:VCALENDAR