BEGIN:VCALENDAR
VERSION:2.0
PRODID:-//Aktives Museum Südwestfalen - ECPv6.15.17.1//NONSGML v1.0//EN
CALSCALE:GREGORIAN
METHOD:PUBLISH
X-WR-CALNAME:Aktives Museum Südwestfalen
X-ORIGINAL-URL:https://www.aktives-museum-suedwestfalen.de
X-WR-CALDESC:Veranstaltungen für Aktives Museum Südwestfalen
REFRESH-INTERVAL;VALUE=DURATION:PT1H
X-Robots-Tag:noindex
X-PUBLISHED-TTL:PT1H
BEGIN:VTIMEZONE
TZID:UTC
BEGIN:STANDARD
TZOFFSETFROM:+0000
TZOFFSETTO:+0000
TZNAME:UTC
DTSTART:20230101T000000
END:STANDARD
END:VTIMEZONE
BEGIN:VEVENT
DTSTART;TZID=UTC:20241117T150000
DTEND;TZID=UTC:20241117T170000
DTSTAMP:20260425T120712
CREATED:20240821T112228Z
LAST-MODIFIED:20241014T104954Z
UID:2006-1731855600-1731862800@www.aktives-museum-suedwestfalen.de
SUMMARY:Stadtrundgang - Orte der Erinnerung in der Oberstadt am Volkstrauertag 2024. In Zusammenarbeit mit dem Aktiven Museum Südwestfalen e. V.
DESCRIPTION:Tilman2007\, CC BY-SA 4.0 <https://creativecommons.org/licenses/by-sa/4.0>\, via Wikimedia Commons. Siegen\, Unteres Schloss) \nDer Volkstrauertag fällt in diesem Jahr auf den 17. November. Seit seiner Einführung 1926 in der Weimarer Republik hat sich der Charakter des Volkstrauertages gewandelt: Ursprünglich war er ein Gedenktag für deutsche gefallene Soldaten der Weltkriege\, heute liegt der Fokus mehr auf den Opfern des Nationalsozialismus. Als Teil dieser gewandelten Erinnerungskultur bietet das Aktive Museum Südwestfalen an dem Volkstrauertag 2024 einen besonderen Rundgang zu verschiedenen Erinnerungsorten in der Oberstadt an. Es werden Geschichten von Widerstand gegen\, von Verfolgung durch\, von Teilnahme am System des Nationalsozialismus erzählt\, sowie über den Wandel des Erinnerns seit 1945 nachgedacht. Gespräche und Diskussionen finden an verschiedenen Stationen unserer Stadt wie der Alfred-Fissmer-Anlage\, dem Platz der Synagoge und dem Unteren Schloss statt.\nDurchführende:\nDr. Jens Aspelmeier\, Historiker\, Leiter Aktives Museum Südwestfalen\nPeer Ball\, Vorstand Aktives Museum\, Leiter der AG Pädagogik\nAnmeldung erforderlich! (Teilnehmer*innen begrenzt)\nAnmeldung per Web\, per E-Mail an info@vhs-stadt-siegen.de oder persönlich.\nDas Kursentgelt von 5\,00 € zahlen Sie bitte direkt bei der Führung. \n(Text zit. nach Internetauftritt der VHS Siegen\, siehe unter: https://www.vhs-stadt-siegen.de/kurssuche/kurs/Stadtrundgang-Orte-der-Erinnerung-in-der-Oberstadt-am-Volkstrauertag-2024/C16017-1)
URL:https://www.aktives-museum-suedwestfalen.de/veranstaltungen/stadtrundgang-orte-der-erinnerung-in-der-oberstadt-am-volkstrauertag-2024-in-zusammenarbeit-mit-dem-aktiven-museum-suedwestfalen-e-v/
LOCATION:Siegener Oberstadt\, Siegen\, Nordrhein-Westfalen\, 57072\, Deutschland
CATEGORIES:Stadtrundgang
ATTACH;FMTTYPE=image/png:https://www.aktives-museum-suedwestfalen.de/wp-content/uploads/2024/08/Volkstrauertag-Stadtrundgang-Oberstadt-S.1-2.png
ORGANIZER;CN="VHS%3B Aktives Museum S%C3%BCdwestfalen e. V.":MAILTO:siegen-ams@t-online.de
END:VEVENT
BEGIN:VEVENT
DTSTART;TZID=UTC:20241122T160000
DTEND;TZID=UTC:20241122T170000
DTSTAMP:20260425T120712
CREATED:20241116T210239Z
LAST-MODIFIED:20241116T210305Z
UID:2220-1732291200-1732294800@www.aktives-museum-suedwestfalen.de
SUMMARY:Zur Bedeutung der „Aktion-T4“ im Kontext des  Holocaust: Hintergründe und Parallelen-Versuch einer Einordnung\, Vortrag von Christina Panzer
DESCRIPTION:Vortrag in dem sich die wissenschaftlich-pädagogische Mitarbeiterin des Aktiven Museums Südwestfalen im Rahmen der aktuellen Sonderausstellung mit der Bedeutung der sog. „Aktion T4“ auseinandersetzt und diese erste zentrale Phase (1939-1941) des „Euthanasie“- Programms erläutert und kontextualisiert.
URL:https://www.aktives-museum-suedwestfalen.de/veranstaltungen/zur-bedeutung-der-aktion-t4-im-kontext-des-holocaust-hintergruende-und-parallelen-versuch-einer-einordnung-vortrag-von-christina-panzer/
LOCATION:Aktives Museum Südwestfalen\, Am Obergraben 10\, 57072 Siegen
CATEGORIES:Vortrag
END:VEVENT
END:VCALENDAR