BEGIN:VCALENDAR
VERSION:2.0
PRODID:-//Aktives Museum Südwestfalen - ECPv6.15.17.1//NONSGML v1.0//EN
CALSCALE:GREGORIAN
METHOD:PUBLISH
X-ORIGINAL-URL:https://www.aktives-museum-suedwestfalen.de
X-WR-CALDESC:Veranstaltungen für Aktives Museum Südwestfalen
REFRESH-INTERVAL;VALUE=DURATION:PT1H
X-Robots-Tag:noindex
X-PUBLISHED-TTL:PT1H
BEGIN:VTIMEZONE
TZID:UTC
BEGIN:STANDARD
TZOFFSETFROM:+0000
TZOFFSETTO:+0000
TZNAME:UTC
DTSTART:20230101T000000
END:STANDARD
END:VTIMEZONE
BEGIN:VEVENT
DTSTART;TZID=UTC:20240630T150000
DTEND;TZID=UTC:20240630T170000
DTSTAMP:20260425T172704
CREATED:20240214T130638Z
LAST-MODIFIED:20240630T085939Z
UID:1688-1719759600-1719766800@www.aktives-museum-suedwestfalen.de
SUMMARY:Von Bürgerengagement und Ausschließung: Rundgang entlang der Stolpersteine Quartier Hammerhütte
DESCRIPTION:Um Anmeldung wird gebeten\, unter: https://www.vhs-stadt-siegen.de/kurse/mensch-und-gesellschaft/kurs/Stadtrundgang-entlang-der-Stolpersteine-auf-der-Hammerhuette-WOCHENENDE/B16016-3
URL:https://www.aktives-museum-suedwestfalen.de/veranstaltungen/von-buergerengagement-und-ausschliessung-rundgang-entlang-der-stolpersteine-quartier-hammerhuette/
LOCATION:Hammerhütte\, Kirchweg 78\, Siegen\, 57072\, Deutschland
CATEGORIES:Führung
END:VEVENT
END:VCALENDAR