BEGIN:VCALENDAR
VERSION:2.0
PRODID:-//Aktives Museum Südwestfalen - ECPv6.15.17.1//NONSGML v1.0//EN
CALSCALE:GREGORIAN
METHOD:PUBLISH
X-WR-CALNAME:Aktives Museum Südwestfalen
X-ORIGINAL-URL:https://www.aktives-museum-suedwestfalen.de
X-WR-CALDESC:Veranstaltungen für Aktives Museum Südwestfalen
REFRESH-INTERVAL;VALUE=DURATION:PT1H
X-Robots-Tag:noindex
X-PUBLISHED-TTL:PT1H
BEGIN:VTIMEZONE
TZID:UTC
BEGIN:STANDARD
TZOFFSETFROM:+0000
TZOFFSETTO:+0000
TZNAME:UTC
DTSTART:20230101T000000
END:STANDARD
END:VTIMEZONE
BEGIN:VEVENT
DTSTART;TZID=UTC:20241029T180000
DTEND;TZID=UTC:20241029T193000
DTSTAMP:20260422T143047
CREATED:20241014T112200Z
LAST-MODIFIED:20241014T113303Z
UID:2121-1730224800-1730230200@www.aktives-museum-suedwestfalen.de
SUMMARY:Der 7. Oktober und seine Folgen - Antisemitismus\, Solidarität und falsche Freund*innen. Mit Monty Ott
DESCRIPTION:Über diese Fragen und mehr sprechen wir mit Monty Ott\, politischer Schriftsteller sowie Politik- und Religionswissenschaftler\, Co-Autor von „‘Wir lassen uns nicht unterkriegen‘ – Junge jüdische Politik in Deutschland\nWir freuen uns auf einen Abend mit dem großartigen Monty Ott bei uns in Siegen und laden herzlich am Dienstag den 29.10. ins Aktive Museum Südwestfalen ein\nIn den vergangenen Wochen war es immer wieder zu hören: Der 7. Oktober 2023 war eine Zäsur für Jüdinnen*Juden weltweit.\n\nDoch was heißt das?\nWas heißt das insbesondere vor dem Hintergrund eines seit Jahrzehnten zunehmend offener und gewaltvoller auftretenden Antisemitismus? Welche Auswirkungen hatte der Anschlag der palästinensisch-islamistischen Hamas auf das Leben von Jüdinnen*Juden in Deutschland? Welche Schneisen hat dieser Sturm durch linke Bewegungen geschlagen? Wie kann man Solidarität üben? Und wie kann eine neue soziale Allianz gegen Antisemitismus und Rassismus aussehen?\n\nDie Veranstaltung findet statt in Kooperation mit dem Antifa Cafè Siegen (Hauptveranstalter)\, des DGB Siegen und dem Walter Krämer AStA der Uni Siegen\n  \n 
URL:https://www.aktives-museum-suedwestfalen.de/veranstaltungen/der-7-oktober-und-seine-folgen-antisemitismus-solidaritaet-und-falsche-freundinnen-mit-monty-ott/
LOCATION:Aktives Museum Südwestfalen\, Am Obergraben 10\, 57072 Siegen
CATEGORIES:Lesung
ATTACH;FMTTYPE=image/jpeg:https://www.aktives-museum-suedwestfalen.de/wp-content/uploads/2024/10/01_IMG_0857.jpeg
ORGANIZER;CN="Antifa Info Caf%C3%A9 Siegen":MAILTO:antifa_cafe_siegen@riseup.net
END:VEVENT
END:VCALENDAR